BEGIN:VCALENDAR
VERSION:2.0
PRODID:-//The Festival Center - ECPv6.15.20//NONSGML v1.0//EN
CALSCALE:GREGORIAN
METHOD:PUBLISH
X-ORIGINAL-URL:https://festivalcenter.org
X-WR-CALDESC:Events for The Festival Center
REFRESH-INTERVAL;VALUE=DURATION:PT1H
X-Robots-Tag:noindex
X-PUBLISHED-TTL:PT1H
BEGIN:VTIMEZONE
TZID:America/New_York
BEGIN:DAYLIGHT
TZOFFSETFROM:-0500
TZOFFSETTO:-0400
TZNAME:EDT
DTSTART:20240310T070000
END:DAYLIGHT
BEGIN:STANDARD
TZOFFSETFROM:-0400
TZOFFSETTO:-0500
TZNAME:EST
DTSTART:20241103T060000
END:STANDARD
BEGIN:DAYLIGHT
TZOFFSETFROM:-0500
TZOFFSETTO:-0400
TZNAME:EDT
DTSTART:20250309T070000
END:DAYLIGHT
BEGIN:STANDARD
TZOFFSETFROM:-0400
TZOFFSETTO:-0500
TZNAME:EST
DTSTART:20251102T060000
END:STANDARD
BEGIN:DAYLIGHT
TZOFFSETFROM:-0500
TZOFFSETTO:-0400
TZNAME:EDT
DTSTART:20260308T070000
END:DAYLIGHT
BEGIN:STANDARD
TZOFFSETFROM:-0400
TZOFFSETTO:-0500
TZNAME:EST
DTSTART:20261101T060000
END:STANDARD
END:VTIMEZONE
BEGIN:VEVENT
DTSTART;TZID=America/New_York:20251203T173000
DTEND;TZID=America/New_York:20251203T183000
DTSTAMP:20260420T103615
CREATED:20251112T173225Z
LAST-MODIFIED:20251114T173518Z
UID:9226-1764783000-1764786600@festivalcenter.org
SUMMARY:Carols & Cocoa
DESCRIPTION:Will We See You There?\nJoin us at 5:30pm outside The Festival Center (1640 Columbia Road NW) for the 6th annual sing-along and hot cocoa! \nThe hot cocoa will be donated by the Potter’s House. \n\nRSVP Now!
URL:https://festivalcenter.org/event/carols-cocoa/
LOCATION:The Festival Center\, 1640 Columbia Road NW\, Washington\, DC\, 20009\, United States
CATEGORIES:Community Gatherings
ATTACH;FMTTYPE=image/png:https://festivalcenter.org/wp-content/uploads/2025/11/Design-2-2.png
END:VEVENT
BEGIN:VEVENT
DTSTART;TZID=America/New_York:20251209T103000
DTEND;TZID=America/New_York:20251209T120000
DTSTAMP:20260420T103615
CREATED:20251112T173938Z
LAST-MODIFIED:20251112T175015Z
UID:9236-1765276200-1765281600@festivalcenter.org
SUMMARY:Executive Director Appreciation Brunch
DESCRIPTION:Calling All Leaders!\n\n																														 \nIt has been a long year and we want to honor the Executive Directors who have worked so long and hard to protect vulnerable people\, lift up the incredible people who staff our organizations\, and envision a future where justice and liberation are realities. \nSo\, please RSVP by letting Bill Mefford know you can make it! And please share it around! \nAnd if you need a place to work that morning before we start just let him know and we’d be happy for you to work in our Co-Working space!
URL:https://festivalcenter.org/event/executive-director-appreciation-brunch/
LOCATION:DC
CATEGORIES:Community Gatherings
ATTACH;FMTTYPE=image/png:https://festivalcenter.org/wp-content/uploads/2025/11/Design-1-1.png
END:VEVENT
END:VCALENDAR