BEGIN:VCALENDAR
VERSION:2.0
PRODID:-//The Festival Center - ECPv6.15.20//NONSGML v1.0//EN
CALSCALE:GREGORIAN
METHOD:PUBLISH
X-WR-CALNAME:The Festival Center
X-ORIGINAL-URL:https://festivalcenter.org
X-WR-CALDESC:Events for The Festival Center
REFRESH-INTERVAL;VALUE=DURATION:PT1H
X-Robots-Tag:noindex
X-PUBLISHED-TTL:PT1H
BEGIN:VTIMEZONE
TZID:America/New_York
BEGIN:DAYLIGHT
TZOFFSETFROM:-0500
TZOFFSETTO:-0400
TZNAME:EDT
DTSTART:20220313T070000
END:DAYLIGHT
BEGIN:STANDARD
TZOFFSETFROM:-0400
TZOFFSETTO:-0500
TZNAME:EST
DTSTART:20221106T060000
END:STANDARD
BEGIN:DAYLIGHT
TZOFFSETFROM:-0500
TZOFFSETTO:-0400
TZNAME:EDT
DTSTART:20230312T070000
END:DAYLIGHT
BEGIN:STANDARD
TZOFFSETFROM:-0400
TZOFFSETTO:-0500
TZNAME:EST
DTSTART:20231105T060000
END:STANDARD
BEGIN:DAYLIGHT
TZOFFSETFROM:-0500
TZOFFSETTO:-0400
TZNAME:EDT
DTSTART:20240310T070000
END:DAYLIGHT
BEGIN:STANDARD
TZOFFSETFROM:-0400
TZOFFSETTO:-0500
TZNAME:EST
DTSTART:20241103T060000
END:STANDARD
END:VTIMEZONE
BEGIN:VEVENT
DTSTART;VALUE=DATE:20230908
DTEND;VALUE=DATE:20240101
DTSTAMP:20260422T053316
CREATED:20230707T142018Z
LAST-MODIFIED:20230913T203629Z
UID:5423-1694131200-1704067199@festivalcenter.org
SUMMARY:Permítanme Hablar Art Exhibit
DESCRIPTION:The exhibit “Permítanme Hablar” showcases the vibrant semi-representational abstract works of AnaYelsi Velasco Sanchez. The pieces in this exhibit depict stories of justice and liberation.\, inviting the viewer to connect with the emotions and experiences conveyed in each piece. The title “Permítanme hablar” translates to “allow me to speak\,” and is inspired by mujerista theology\, which emphasizes the voices and lived experiences of Latinas. This title is particularly empowering for the artist\, as she works to reclaim her first language\, lost through forced assimilation. Each piece in the exhibit tells a story of struggle and triumph\, pain and healing. Take a journey with AnaYelsi Velasco Sanchez and discover the emotional depth of Permítanme Hablar. \n  \nABOUT THE ARTIST\nBorn in Venezuela\, AnaYelsi Velasco Sanchez (she/ella) is a reconnecting IndoLatine mujerista working to create and agitate her way through the Latin diaspora. She is a highly skilled and compassionate public educator who utilizes her signature Interlocking Justice methodology to catalyze an embodied response. Interlocking Justice is a holistic\, accessible\, and sustainable approach to justice and liberation work that AnaYelsi teaches and speaks about nationwide.  She empowers individuals and communities with her diverse skill set\, which includes education\, coaching\, consulting\, writing… and art. \nAnaYelsi’s passion for liberating justice work often seeps into her creative endeavors – resulting in art that provides a commentary on human nature with a focus on identity\, mental health\, and the pursuit of justice and liberation. She is self-taught and has been painting professionally since 2012. Her work has been showcased in places like Orlando City Hall\, DC’s Venezuelan Embassy\, and in galleries such as Orlando’s CityArts Factory. She’s also been featured in multi-artist shows in both Washington\, DC and Orlando\, FL.
URL:https://festivalcenter.org/event/permitame-hablar-art-exhibit/
LOCATION:The Festival Center Community Art Gallery\, 1640 Columbia Road NW\, Washington\, DC\, 20009\, United States
CATEGORIES:Community Art Gallery
ATTACH;FMTTYPE=image/webp:https://festivalcenter.org/wp-content/uploads/2023/07/image_6487327-e1694637380998.webp
END:VEVENT
BEGIN:VEVENT
DTSTART;TZID=America/New_York:20230907T103000
DTEND;TZID=America/New_York:20230907T133000
DTSTAMP:20260422T053316
CREATED:20230626T155915Z
LAST-MODIFIED:20230626T155915Z
UID:5283-1694082600-1694093400@festivalcenter.org
SUMMARY:Themed Three-Course Cooking Class
DESCRIPTION:Join us for an unforgettable experience!\nDuring this hands-on cooking experience\, our expert chef\, Lisbeth Melendez Rivera\, will guide you through creating a delightful three-course meal incorporating the mystery theme unveiled before the class. Whether you’re a seasoned cook or a culinary enthusiast looking to expand your skills\, this class is designed to provide you with the knowledge and confidence to master each course. \n\nIndulge your taste buds and unlock your inner chef with our monthly captivating Themed Three-Course Cooking Class! Join us for an exciting culinary journey where each class provides a unique theme that will be announced a week in advance. Prepare to be amazed as you dive into the world of flavors\, techniques\, and creativity in the comfort of our state-of-the-art kitchen. \nThemes: The beauty of our Themed Three-Course Cooking Class lies in its unpredictability. With a new theme announced a week before each class\, you’ll embark on a culinary adventure that unveils a world of culinary possibilities. From Mediterranean marvels to exotic Asian fusion\, each theme offers a distinct culinary style\, ingredients\, and techniques\, ensuring every class is a fresh and exciting experience. \nCourse 1: Appetizers: Under the guidance of our talented chef\, you’ll learn how to create mouthwatering appetizers that set the stage for an unforgettable dining experience. From vibrant salads to delectable finger foods\, each class’s theme will inspire the selection of ingredients and flavor profiles\, allowing you to unleash your creativity while mastering the art of appetizer preparation. \nCourse 2: Main Course: Prepare to elevate your cooking skills as you tackle the main course. Our chefs will teach you the essential techniques to prepare a stunning centerpiece dish that embodies the theme of the class. With a focus on flavor balance\, presentation\, and culinary finesse\, you’ll learn to create a show-stopping main course that will impress even the most discerning palates. \nCourse 3: Desserts: Finish your culinary journey sweetly with our delectable dessert course. Learn to create irresistible desserts that perfectly complement the theme of the class. From decadent chocolate creations to delicate pastries\, our chefs will share their expertise\, tips\, and tricks to ensure you create desserts that are as visually stunning as they are scrumptious. \nWhat to Expect: \n\nExpert guidance from our skilled chefs throughout the class.\nHands-on experience as you prepare each course from scratch.\nInsight into the theme of the class\, providing inspiration and creativity.\nAn interactive and engaging cooking environment.\nTips and techniques to enhance your culinary repertoire.\nOpportunities to connect with fellow food enthusiasts.\nA delightful three-course meal prepared by your own hands.\n\nJoin us for an unforgettable experience: embark on a culinary adventure with our Themed Three-Course Cooking Class. With surprise themes revealed a week in advance\, you’ll immerse yourself in gastronomy\, discover new flavors\, and create unforgettable dishes. Reserve your spot today and prepare to unleash your inner chef in a dynamic and exciting cooking environment!
URL:https://festivalcenter.org/event/themed-three-course-cooking-class-5/
LOCATION:The Festival Center | Kitchen\, 1640 Columbia Road Northwest\, Washington\, DC\, 20009-3602\, United States
CATEGORIES:Kitchen Incubator
ATTACH;FMTTYPE=image/webp:https://festivalcenter.org/wp-content/uploads/2023/06/poster_board_pexels-mister-mister-3434523.webp
ORGANIZER;CN="Lisbeth Meledez River":MAILTO:lisbeth@festivalcenter.org
END:VEVENT
BEGIN:VEVENT
DTSTART;TZID=America/New_York:20230824T180000
DTEND;TZID=America/New_York:20230824T210000
DTSTAMP:20260422T053316
CREATED:20230626T155822Z
LAST-MODIFIED:20230626T155822Z
UID:5281-1692900000-1692910800@festivalcenter.org
SUMMARY:Themed Three-Course Cooking Class
DESCRIPTION:Join us for an unforgettable experience!\nDuring this hands-on cooking experience\, our expert chef\, Lisbeth Melendez Rivera\, will guide you through creating a delightful three-course meal incorporating the mystery theme unveiled before the class. Whether you’re a seasoned cook or a culinary enthusiast looking to expand your skills\, this class is designed to provide you with the knowledge and confidence to master each course. \n\nIndulge your taste buds and unlock your inner chef with our monthly captivating Themed Three-Course Cooking Class! Join us for an exciting culinary journey where each class provides a unique theme that will be announced a week in advance. Prepare to be amazed as you dive into the world of flavors\, techniques\, and creativity in the comfort of our state-of-the-art kitchen. \nThemes: The beauty of our Themed Three-Course Cooking Class lies in its unpredictability. With a new theme announced a week before each class\, you’ll embark on a culinary adventure that unveils a world of culinary possibilities. From Mediterranean marvels to exotic Asian fusion\, each theme offers a distinct culinary style\, ingredients\, and techniques\, ensuring every class is a fresh and exciting experience. \nCourse 1: Appetizers: Under the guidance of our talented chef\, you’ll learn how to create mouthwatering appetizers that set the stage for an unforgettable dining experience. From vibrant salads to delectable finger foods\, each class’s theme will inspire the selection of ingredients and flavor profiles\, allowing you to unleash your creativity while mastering the art of appetizer preparation. \nCourse 2: Main Course: Prepare to elevate your cooking skills as you tackle the main course. Our chefs will teach you the essential techniques to prepare a stunning centerpiece dish that embodies the theme of the class. With a focus on flavor balance\, presentation\, and culinary finesse\, you’ll learn to create a show-stopping main course that will impress even the most discerning palates. \nCourse 3: Desserts: Finish your culinary journey sweetly with our delectable dessert course. Learn to create irresistible desserts that perfectly complement the theme of the class. From decadent chocolate creations to delicate pastries\, our chefs will share their expertise\, tips\, and tricks to ensure you create desserts that are as visually stunning as they are scrumptious. \nWhat to Expect: \n\nExpert guidance from our skilled chefs throughout the class.\nHands-on experience as you prepare each course from scratch.\nInsight into the theme of the class\, providing inspiration and creativity.\nAn interactive and engaging cooking environment.\nTips and techniques to enhance your culinary repertoire.\nOpportunities to connect with fellow food enthusiasts.\nA delightful three-course meal prepared by your own hands.\n\nJoin us for an unforgettable experience: embark on a culinary adventure with our Themed Three-Course Cooking Class. With surprise themes revealed a week in advance\, you’ll immerse yourself in gastronomy\, discover new flavors\, and create unforgettable dishes. Reserve your spot today and prepare to unleash your inner chef in a dynamic and exciting cooking environment!
URL:https://festivalcenter.org/event/themed-three-course-cooking-class-4/
LOCATION:The Festival Center | Kitchen\, 1640 Columbia Road Northwest\, Washington\, DC\, 20009-3602\, United States
CATEGORIES:Kitchen Incubator
ATTACH;FMTTYPE=image/webp:https://festivalcenter.org/wp-content/uploads/2023/06/poster_board_pexels-mister-mister-3434523.webp
ORGANIZER;CN="Lisbeth Meledez River":MAILTO:lisbeth@festivalcenter.org
END:VEVENT
BEGIN:VEVENT
DTSTART;TZID=America/New_York:20230818T180000
DTEND;TZID=America/New_York:20230818T200000
DTSTAMP:20260422T053316
CREATED:20230815T175441Z
LAST-MODIFIED:20230815T184003Z
UID:5604-1692381600-1692388800@festivalcenter.org
SUMMARY:Festival Center Kitchen Training
DESCRIPTION:The purpose of this training is to acclimate kitchen renters to the standards\, expectations\, and protocols of the Festival Center commercial kitchen. This is an in-person training ONLY. The training fee is $50/person and All who anticipate preparing and cooking in the Festival Center kitchen must complete this training and submit all necessary documentation to support their use of the kitchen. Completing this training makes desired renters eligible to request cook time in the Festival Center Kitchen. Those who complete the training will be provided a link to request kitchen use at the end of the training. \nFacilitator: Lisbeth Melendez Rivera\, Director of Art and Food Justice \nIf you have a food handler’s license\, please bring it with you to the training. We will copy it and hold it for our records.  \nThis training can be facilitated in English and Spanish.
URL:https://festivalcenter.org/event/festival-center-kitchen-training/
LOCATION:The Festival Center\, 1640 Columbia Road Northwest\, Washington\, DC 20009\, Washington\, DC\, 20009\, US
CATEGORIES:Kitchen Trainings
ATTACH;FMTTYPE=image/webp:https://festivalcenter.org/wp-content/uploads/2023/08/5604_image.webp
END:VEVENT
BEGIN:VEVENT
DTSTART;TZID=America/New_York:20230810T103000
DTEND;TZID=America/New_York:20230810T133000
DTSTAMP:20260422T053316
CREATED:20230626T155720Z
LAST-MODIFIED:20230626T155720Z
UID:5279-1691663400-1691674200@festivalcenter.org
SUMMARY:Themed Three-Course Cooking Class
DESCRIPTION:Join us for an unforgettable experience!\nDuring this hands-on cooking experience\, our expert chef\, Lisbeth Melendez Rivera\, will guide you through creating a delightful three-course meal incorporating the mystery theme unveiled before the class. Whether you’re a seasoned cook or a culinary enthusiast looking to expand your skills\, this class is designed to provide you with the knowledge and confidence to master each course. \n\nIndulge your taste buds and unlock your inner chef with our monthly captivating Themed Three-Course Cooking Class! Join us for an exciting culinary journey where each class provides a unique theme that will be announced a week in advance. Prepare to be amazed as you dive into the world of flavors\, techniques\, and creativity in the comfort of our state-of-the-art kitchen. \nThemes: The beauty of our Themed Three-Course Cooking Class lies in its unpredictability. With a new theme announced a week before each class\, you’ll embark on a culinary adventure that unveils a world of culinary possibilities. From Mediterranean marvels to exotic Asian fusion\, each theme offers a distinct culinary style\, ingredients\, and techniques\, ensuring every class is a fresh and exciting experience. \nCourse 1: Appetizers: Under the guidance of our talented chef\, you’ll learn how to create mouthwatering appetizers that set the stage for an unforgettable dining experience. From vibrant salads to delectable finger foods\, each class’s theme will inspire the selection of ingredients and flavor profiles\, allowing you to unleash your creativity while mastering the art of appetizer preparation. \nCourse 2: Main Course: Prepare to elevate your cooking skills as you tackle the main course. Our chefs will teach you the essential techniques to prepare a stunning centerpiece dish that embodies the theme of the class. With a focus on flavor balance\, presentation\, and culinary finesse\, you’ll learn to create a show-stopping main course that will impress even the most discerning palates. \nCourse 3: Desserts: Finish your culinary journey sweetly with our delectable dessert course. Learn to create irresistible desserts that perfectly complement the theme of the class. From decadent chocolate creations to delicate pastries\, our chefs will share their expertise\, tips\, and tricks to ensure you create desserts that are as visually stunning as they are scrumptious. \nWhat to Expect: \n\nExpert guidance from our skilled chefs throughout the class.\nHands-on experience as you prepare each course from scratch.\nInsight into the theme of the class\, providing inspiration and creativity.\nAn interactive and engaging cooking environment.\nTips and techniques to enhance your culinary repertoire.\nOpportunities to connect with fellow food enthusiasts.\nA delightful three-course meal prepared by your own hands.\n\nJoin us for an unforgettable experience: embark on a culinary adventure with our Themed Three-Course Cooking Class. With surprise themes revealed a week in advance\, you’ll immerse yourself in gastronomy\, discover new flavors\, and create unforgettable dishes. Reserve your spot today and prepare to unleash your inner chef in a dynamic and exciting cooking environment!
URL:https://festivalcenter.org/event/themed-three-course-cooking-class-3/
LOCATION:The Festival Center | Kitchen\, 1640 Columbia Road Northwest\, Washington\, DC\, 20009-3602\, United States
CATEGORIES:Kitchen Incubator
ATTACH;FMTTYPE=image/webp:https://festivalcenter.org/wp-content/uploads/2023/06/poster_board_pexels-mister-mister-3434523.webp
ORGANIZER;CN="Lisbeth Meledez River":MAILTO:lisbeth@festivalcenter.org
END:VEVENT
BEGIN:VEVENT
DTSTART;TZID=America/New_York:20230810T100000
DTEND;TZID=America/New_York:20230810T120000
DTSTAMP:20260422T053316
CREATED:20230719T150522Z
LAST-MODIFIED:20230801T131849Z
UID:5470-1691661600-1691668800@festivalcenter.org
SUMMARY:Powering Progress: Celebrating Energy Efficiency and Electrification at the Festival Center
DESCRIPTION:RSVP TODAY!\nJoin us at the Festival Center as we celebrate the remarkable woman who turned the vision of energy efficiencies in the renovated center into a reality. The Festival Center\, in partnership with New Columbia Solar and DCSEU\, invites you to a special ribbon-cutting event. \n\nThe Festival Center’s commitment to electrification and energy efficiency aligns with the D.C. Council’s decision to phase out the use of fossil fuels in new buildings\, starting in 2026. Recognizing the wide-ranging benefits of electrification\, including economic\, health\, and environmental advantages\, the Council is currently contemplating legislation to support the electrification of 30\,000 low-income households. \nCome and be a part of this momentous occasion as we celebrate the progress made in creating a more sustainable future for our community. Together\, let’s promote a cleaner\, greener D.C. \n\nRSVP TODAY!
URL:https://festivalcenter.org/event/powering-progress-celebrating-energy-efficiency-and-electrification-at-the-festival-center/
LOCATION:The Festival Center\, 1640 Columbia Road NW\, Washington\, DC\, 20009\, United States
ATTACH;FMTTYPE=image/webp:https://festivalcenter.org/wp-content/uploads/2023/07/IMG_2159.webp
ORGANIZER;CN="The Festival Center":MAILTO:info@festivalcenter.org
END:VEVENT
BEGIN:VEVENT
DTSTART;TZID=America/New_York:20230727T180000
DTEND;TZID=America/New_York:20230727T210000
DTSTAMP:20260422T053316
CREATED:20230626T155205Z
LAST-MODIFIED:20230626T155205Z
UID:5277-1690480800-1690491600@festivalcenter.org
SUMMARY:Themed Three-Course Cooking Class
DESCRIPTION:Join us for an unforgettable experience!\nDuring this hands-on cooking experience\, our expert chef\, Lisbeth Melendez Rivera\, will guide you through creating a delightful three-course meal incorporating the mystery theme unveiled before the class. Whether you’re a seasoned cook or a culinary enthusiast looking to expand your skills\, this class is designed to provide you with the knowledge and confidence to master each course. \n\nIndulge your taste buds and unlock your inner chef with our monthly captivating Themed Three-Course Cooking Class! Join us for an exciting culinary journey where each class provides a unique theme that will be announced a week in advance. Prepare to be amazed as you dive into the world of flavors\, techniques\, and creativity in the comfort of our state-of-the-art kitchen. \nThemes: The beauty of our Themed Three-Course Cooking Class lies in its unpredictability. With a new theme announced a week before each class\, you’ll embark on a culinary adventure that unveils a world of culinary possibilities. From Mediterranean marvels to exotic Asian fusion\, each theme offers a distinct culinary style\, ingredients\, and techniques\, ensuring every class is a fresh and exciting experience. \nCourse 1: Appetizers: Under the guidance of our talented chef\, you’ll learn how to create mouthwatering appetizers that set the stage for an unforgettable dining experience. From vibrant salads to delectable finger foods\, each class’s theme will inspire the selection of ingredients and flavor profiles\, allowing you to unleash your creativity while mastering the art of appetizer preparation. \nCourse 2: Main Course: Prepare to elevate your cooking skills as you tackle the main course. Our chefs will teach you the essential techniques to prepare a stunning centerpiece dish that embodies the theme of the class. With a focus on flavor balance\, presentation\, and culinary finesse\, you’ll learn to create a show-stopping main course that will impress even the most discerning palates. \nCourse 3: Desserts: Finish your culinary journey sweetly with our delectable dessert course. Learn to create irresistible desserts that perfectly complement the theme of the class. From decadent chocolate creations to delicate pastries\, our chefs will share their expertise\, tips\, and tricks to ensure you create desserts that are as visually stunning as they are scrumptious. \nWhat to Expect: \n\nExpert guidance from our skilled chefs throughout the class.\nHands-on experience as you prepare each course from scratch.\nInsight into the theme of the class\, providing inspiration and creativity.\nAn interactive and engaging cooking environment.\nTips and techniques to enhance your culinary repertoire.\nOpportunities to connect with fellow food enthusiasts.\nA delightful three-course meal prepared by your own hands.\n\nJoin us for an unforgettable experience: embark on a culinary adventure with our Themed Three-Course Cooking Class. With surprise themes revealed a week in advance\, you’ll immerse yourself in gastronomy\, discover new flavors\, and create unforgettable dishes. Reserve your spot today and prepare to unleash your inner chef in a dynamic and exciting cooking environment!
URL:https://festivalcenter.org/event/themed-three-course-cooking-class-2/
LOCATION:The Festival Center | Kitchen\, 1640 Columbia Road Northwest\, Washington\, DC\, 20009-3602\, United States
CATEGORIES:Kitchen Incubator
ATTACH;FMTTYPE=image/webp:https://festivalcenter.org/wp-content/uploads/2023/06/poster_board_pexels-mister-mister-3434523.webp
ORGANIZER;CN="Lisbeth Meledez River":MAILTO:lisbeth@festivalcenter.org
END:VEVENT
BEGIN:VEVENT
DTSTART;TZID=America/New_York:20230713T103000
DTEND;TZID=America/New_York:20230713T133000
DTSTAMP:20260422T053316
CREATED:20230626T154917Z
LAST-MODIFIED:20230626T154918Z
UID:5270-1689244200-1689255000@festivalcenter.org
SUMMARY:Themed Three-Course Cooking Class
DESCRIPTION:Join us for an unforgettable experience!\nDuring this hands-on cooking experience\, our expert chef\, Lisbeth Melendez Rivera\, will guide you through creating a delightful three-course meal incorporating the mystery theme unveiled before the class. Whether you’re a seasoned cook or a culinary enthusiast looking to expand your skills\, this class is designed to provide you with the knowledge and confidence to master each course. \n\nIndulge your taste buds and unlock your inner chef with our monthly captivating Themed Three-Course Cooking Class! Join us for an exciting culinary journey where each class provides a unique theme that will be announced a week in advance. Prepare to be amazed as you dive into the world of flavors\, techniques\, and creativity in the comfort of our state-of-the-art kitchen. \nThemes: The beauty of our Themed Three-Course Cooking Class lies in its unpredictability. With a new theme announced a week before each class\, you’ll embark on a culinary adventure that unveils a world of culinary possibilities. From Mediterranean marvels to exotic Asian fusion\, each theme offers a distinct culinary style\, ingredients\, and techniques\, ensuring every class is a fresh and exciting experience. \nCourse 1: Appetizers: Under the guidance of our talented chef\, you’ll learn how to create mouthwatering appetizers that set the stage for an unforgettable dining experience. From vibrant salads to delectable finger foods\, each class’s theme will inspire the selection of ingredients and flavor profiles\, allowing you to unleash your creativity while mastering the art of appetizer preparation. \nCourse 2: Main Course: Prepare to elevate your cooking skills as you tackle the main course. Our chefs will teach you the essential techniques to prepare a stunning centerpiece dish that embodies the theme of the class. With a focus on flavor balance\, presentation\, and culinary finesse\, you’ll learn to create a show-stopping main course that will impress even the most discerning palates. \nCourse 3: Desserts: Finish your culinary journey sweetly with our delectable dessert course. Learn to create irresistible desserts that perfectly complement the theme of the class. From decadent chocolate creations to delicate pastries\, our chefs will share their expertise\, tips\, and tricks to ensure you create desserts that are as visually stunning as they are scrumptious. \nWhat to Expect: \n\nExpert guidance from our skilled chefs throughout the class.\nHands-on experience as you prepare each course from scratch.\nInsight into the theme of the class\, providing inspiration and creativity.\nAn interactive and engaging cooking environment.\nTips and techniques to enhance your culinary repertoire.\nOpportunities to connect with fellow food enthusiasts.\nA delightful three-course meal prepared by your own hands.\n\nJoin us for an unforgettable experience: embark on a culinary adventure with our Themed Three-Course Cooking Class. With surprise themes revealed a week in advance\, you’ll immerse yourself in gastronomy\, discover new flavors\, and create unforgettable dishes. Reserve your spot today and prepare to unleash your inner chef in a dynamic and exciting cooking environment!
URL:https://festivalcenter.org/event/themed-three-course-cooking-class/
LOCATION:The Festival Center | Kitchen\, 1640 Columbia Road Northwest\, Washington\, DC\, 20009-3602\, United States
CATEGORIES:Kitchen Incubator
ATTACH;FMTTYPE=image/webp:https://festivalcenter.org/wp-content/uploads/2023/06/poster_board_pexels-mister-mister-3434523.webp
ORGANIZER;CN="Lisbeth Meledez River":MAILTO:lisbeth@festivalcenter.org
END:VEVENT
BEGIN:VEVENT
DTSTART;VALUE=DATE:20230616
DTEND;VALUE=DATE:20230922
DTSTAMP:20260422T053316
CREATED:20230626T000942Z
LAST-MODIFIED:20230626T002141Z
UID:5214-1686873600-1695340799@festivalcenter.org
SUMMARY:Souls of a Nation Art Exhibit
DESCRIPTION:Souls of A Nation is an arts advocacy project that explores the stories of people impacted by systems of power. The portraits and accompanying writings examine how white supremacy manifests through environmental justice\, voter suppression\, the criminal justice system and reproductive justice issues. The Souls of A Nation exhibition is a project by Joe’s Art Studio that uses art and storytelling to educate about issues of systemic injustice.
URL:https://festivalcenter.org/event/souls-of-a-nation-art-exhibit/
LOCATION:The Festival Center Community Art Gallery\, 1640 Columbia Road NW\, Washington\, DC\, 20009\, United States
CATEGORIES:Community Art Gallery
ATTACH;FMTTYPE=image/webp:https://festivalcenter.org/wp-content/uploads/2023/06/Unknown-1.webp
END:VEVENT
END:VCALENDAR